BEGIN:VCALENDAR
VERSION:2.0
PRODID:-//IBEW Local Union 1141 - ECPv6.15.12.2//NONSGML v1.0//EN
CALSCALE:GREGORIAN
METHOD:PUBLISH
X-ORIGINAL-URL:https://www.ibew1141.org
X-WR-CALDESC:Events for IBEW Local Union 1141
REFRESH-INTERVAL;VALUE=DURATION:PT1H
X-Robots-Tag:noindex
X-PUBLISHED-TTL:PT1H
BEGIN:VTIMEZONE
TZID:America/New_York
BEGIN:DAYLIGHT
TZOFFSETFROM:-0500
TZOFFSETTO:-0400
TZNAME:EDT
DTSTART:20240310T070000
END:DAYLIGHT
BEGIN:STANDARD
TZOFFSETFROM:-0400
TZOFFSETTO:-0500
TZNAME:EST
DTSTART:20241103T060000
END:STANDARD
BEGIN:DAYLIGHT
TZOFFSETFROM:-0500
TZOFFSETTO:-0400
TZNAME:EDT
DTSTART:20250309T070000
END:DAYLIGHT
BEGIN:STANDARD
TZOFFSETFROM:-0400
TZOFFSETTO:-0500
TZNAME:EST
DTSTART:20251102T060000
END:STANDARD
BEGIN:DAYLIGHT
TZOFFSETFROM:-0500
TZOFFSETTO:-0400
TZNAME:EDT
DTSTART:20260308T070000
END:DAYLIGHT
BEGIN:STANDARD
TZOFFSETFROM:-0400
TZOFFSETTO:-0500
TZNAME:EST
DTSTART:20261101T060000
END:STANDARD
END:VTIMEZONE
BEGIN:VEVENT
DTSTART;VALUE=DATE:20251127
DTEND;VALUE=DATE:20251129
DTSTAMP:20260421T180621
CREATED:20250307T173704Z
LAST-MODIFIED:20251126T190953Z
UID:7152-1764201600-1764374399@www.ibew1141.org
SUMMARY:Thanksgiving - OFFICE CLOSED
DESCRIPTION:We will be closed in observance of the Thanksgiving Holiday Thursday\, Nov. 27\, as well as Friday the 28th.
URL:https://www.ibew1141.org/event/thanksgiving-office-closed/
END:VEVENT
BEGIN:VEVENT
DTSTART;VALUE=DATE:20251128
DTEND;VALUE=DATE:20251129
DTSTAMP:20260421T180621
CREATED:20251126T191207Z
LAST-MODIFIED:20251126T191207Z
UID:7842-1764288000-1764374399@www.ibew1141.org
SUMMARY:OFFICE CLOSED
DESCRIPTION:
URL:https://www.ibew1141.org/event/office-closed/
END:VEVENT
END:VCALENDAR