BEGIN:VCALENDAR
VERSION:2.0
PRODID:-//IBEW Local Union 1141 - ECPv6.15.12.2//NONSGML v1.0//EN
CALSCALE:GREGORIAN
METHOD:PUBLISH
X-WR-CALNAME:IBEW Local Union 1141
X-ORIGINAL-URL:https://www.ibew1141.org
X-WR-CALDESC:Events for IBEW Local Union 1141
REFRESH-INTERVAL;VALUE=DURATION:PT1H
X-Robots-Tag:noindex
X-PUBLISHED-TTL:PT1H
BEGIN:VTIMEZONE
TZID:America/New_York
BEGIN:DAYLIGHT
TZOFFSETFROM:-0500
TZOFFSETTO:-0400
TZNAME:EDT
DTSTART:20240310T070000
END:DAYLIGHT
BEGIN:STANDARD
TZOFFSETFROM:-0400
TZOFFSETTO:-0500
TZNAME:EST
DTSTART:20241103T060000
END:STANDARD
BEGIN:DAYLIGHT
TZOFFSETFROM:-0500
TZOFFSETTO:-0400
TZNAME:EDT
DTSTART:20250309T070000
END:DAYLIGHT
BEGIN:STANDARD
TZOFFSETFROM:-0400
TZOFFSETTO:-0500
TZNAME:EST
DTSTART:20251102T060000
END:STANDARD
BEGIN:DAYLIGHT
TZOFFSETFROM:-0500
TZOFFSETTO:-0400
TZNAME:EDT
DTSTART:20260308T070000
END:DAYLIGHT
BEGIN:STANDARD
TZOFFSETFROM:-0400
TZOFFSETTO:-0500
TZNAME:EST
DTSTART:20261101T060000
END:STANDARD
END:VTIMEZONE
BEGIN:VEVENT
DTSTART;TZID=America/New_York:20251215T190000
DTEND;TZID=America/New_York:20251215T220000
DTSTAMP:20260421T163555
CREATED:20251213T145720Z
LAST-MODIFIED:20251213T145720Z
UID:7878-1765825200-1765836000@www.ibew1141.org
SUMMARY:COLF Movie Night: "On The Waterfront"
DESCRIPTION:From COLF:\n\n\n\nOur December Union Movie Night will be showing “On the Waterfront” (1954) staring Marlon Brando.\n\n\n\nThis will be a free entry event at 7pm on Film Row: 701 W Sheridan Ave in OKC 73102.\n\n\n\nJoin us on Monday\, December 15!
URL:https://www.ibew1141.org/event/colf-movie-night-on-the-waterfront/
END:VEVENT
END:VCALENDAR